Workbook

Sheet Sheet1
A1: 附件2
A2: 2021年度市属企业负责人薪酬信息披露表
A5: 姓名 | B5: 职务 | C5: 任职起止时间 | D5: 2021年从本公司获得的税前报酬情况 （单位万元） | H5: 领取的任期激励收入（5） | I5: 是否在股东单位或其它关联方领取报酬（是/否） | J5: 备注
D7: 应付薪酬 （1） | E7: 社会保险、企业年金、补充医疗保险及住房公积金的单位缴存部分（2） | F7: 其它货币性收入（注明具体项目并分列（3） | G7: 合计 （4）=（1）+（2）+（3）
A9: 王 锴 | B9: 原党委书记、董事长 | C9: 2017年9月-2020年4月 | D9: 0 | E9: =SUM([1]附件1!T9:X9) -> 1.0020867 | G9: =SUM(D9:F9) -> 1.0020867 | H9: =[1]附件1!R9 -> 8.4204167 | I9: 否
A10: 宋保众 | B10: 原党委书记、董事长 | C10: 2020年5月-2021年12月 | D10: 36.88862 | E10: =SUM([1]附件1!T10:X10) -> 9.4441867 | G10: =SUM(D10:F10) -> 46.332807 | H10: =[1]附件1!R10 -> 0 | I10: 否
A11: 刘 超 | B11: 原党委副书记、总经理 | C11: 2018年7月-2021年5月 | D11: 15.370258 | E11: =SUM([1]附件1!T11:X11) -> 4.859745 | G11: =SUM(D11:F11) -> 20.230003 | H11: =[1]附件1!R11 -> 8.249125 | I11: 否
A12: 王玉富 | B12: 原党委委员、副总经理 | C12: 2018年11月-2021年6月 | D12: 16.577631 | E12: =SUM([1]附件1!T12:X12) -> 5.096076 | G12: =SUM(D12:F12) -> 21.673707 | H12: =[1]附件1!R12 -> 2.3027083 | I12: 否
A13: 许向红 | B13: 党委委员、 纪委书记 | C13: 2020年6月至今 | D13: 31.362743 | E13: =SUM([1]附件1!T13:X13) -> 8.8654 | G13: =SUM(D13:F13) -> 40.228143 | H13: =[1]附件1!R13 -> 0 | I13: 否
A14: 徐 志 | B14: 党委委员、 副总经理 | C14: 2021年6月至今 | D14: 17.249297 | E14: =SUM([1]附件1!T14:X14) -> 4.58783 | G14: =SUM(D14:F14) -> 21.837127 | H14: =[1]附件1!R14 -> 0 | I14: 否
A15: 董 雷 | B15: 财务总监 | C15: 2018年8月至今 | D15: 29.570224 | E15: =SUM([1]附件1!T15:X15) -> 9.3227467 | G15: =SUM(D15:F15) -> 38.892971 | H15: =[1]附件1!R15 -> 2.6728333 | I15: 否
A16: 备注：上表披露的企业负责人是指纳入市委、市政府管理的企业高管。

Sheet Sheet2

Sheet Sheet3
